BEGIN:VCALENDAR
VERSION:2.0
CALSCALE:GREGORIAN
PRODID:-//Diputació de Barcelona//DibaCMS//EN
BEGIN:VEVENT
UID:1117
DTSTAMP:20260420T160839
DTSTART:20090630T200000
DTEND:20090630T000000
SUMMARY:" La memòria històrica dels arbres"
LOCATION:
METHOD:PUBLISH
X-WR-CALNAME:ullastrell@ullastrell.cat
X-WR-TIMEZONE:Europe/Madrid
DESCRIPTION:" La memòria històrica dels arbres" xerrada a càrrec del biòleg Octavi PlanellsD'entre moltes altres, els arbres tenen la virtut de ser els éssers vius amb més longetivitat del món. A més, el fet que no es puguin moure els ha obligat a suportar, estoics, les inclemències ambientals i les agressions dels nostres avantpassats. Però els arbres encara gaudeixen d'una altra virtut que els fa molt valuosos als ulls dels científics: que prenen nota . Aquests organismes enregistren molts dels esdeveniments, bons i dolents, que els afecten al llarg de la seva vida. Aquesta informació queda conservada en els anells de la seva fusta, fins i tot, anys després d'ésser talats.Lloc: Sala exposicions del casalOrganitzador: Ullastrell Natura
URI:https://www.ullastrell.cat/actualitat/agenda/-la-memoria-historica-dels-arbres.html
CLASS:PUBLIC
END:VEVENT
END:VCALENDAR
