BEGIN:VCALENDAR
VERSION:2.0
CALSCALE:GREGORIAN
PRODID:-//Diputació de Barcelona//DibaCMS//EN
BEGIN:VEVENT
UID:1118
DTSTAMP:20260420T103317
DTSTART:20090715T000000
DTEND:20090715T000000
SUMMARY:Excursió Gent Gran - 15/07/2009
LOCATION:
METHOD:PUBLISH
X-WR-CALNAME:ullastrell@ullastrell.cat
X-WR-TIMEZONE:Europe/Madrid
DESCRIPTION:Excursió de la Colla de la Gent Gran a Castellar de n'HugLa Colla de la Gent Gran, s'en va d'excursió a Castellar de N'Hug i Fonts del Llobregat i a dinar a la Colonia VidalLloc: Castellar de n' Hug i fonts del LLobregatOrganitzador: Colla de la Gent Gran
URI:https://www.ullastrell.cat/actualitat/agenda/excursio-gent-gran-15072009.html
CLASS:PUBLIC
END:VEVENT
END:VCALENDAR
