BEGIN:VCALENDAR
VERSION:2.0
CALSCALE:GREGORIAN
PRODID:-//Diputació de Barcelona//DibaCMS//EN
BEGIN:VEVENT
UID:1121
DTSTAMP:20260420T123519
DTSTART:20090910T230000
DTEND:20090910T000000
SUMMARY:Festa Hawaiiana final d'estiu
LOCATION:
METHOD:PUBLISH
X-WR-CALNAME:ullastrell@ullastrell.cat
X-WR-TIMEZONE:Europe/Madrid
DESCRIPTION:Per celebrar el final d'estiu, l'OJU organitza una festa hawaiiana.La festa tindrà DJ, ofertes de preus durant tota la nit.Lloc: Al local de l'OJUOrganitzador: OJU
URI:https://www.ullastrell.cat/actualitat/agenda/festa-hawaiiana-final-destiu.html
CLASS:PUBLIC
END:VEVENT
END:VCALENDAR
