BEGIN:VCALENDAR
VERSION:2.0
CALSCALE:GREGORIAN
PRODID:-//Diputació de Barcelona//DibaCMS//EN
BEGIN:VEVENT
UID:1124
DTSTAMP:20260419T233105
DTSTART:20091014T000000
DTEND:20091014T000000
SUMMARY:Excursió: "Visita cervesses San Miguel"
LOCATION:
METHOD:PUBLISH
X-WR-CALNAME:ullastrell@ullastrell.cat
X-WR-TIMEZONE:Europe/Madrid
DESCRIPTION:La fàbrica Grup Mahou-San Miguel obre les seves portes per donar a conèixer com s'elabora la cervessa i la historia de San Miguel. És una forma nova i original d'apropar al consumidor els processos productius i la filosfia del grup.La fàbrica Grup Mahou-San Miguel obre les seves portes per donar a conèixer com s'elabora la cervessa i la historia de San Miguel. És una forma nova i original d'apropar al consumidor els processos productius i la filosfia del grup.Lloc: LleidaOrganitzador: Gent Gran
URI:https://www.ullastrell.cat/actualitat/agenda/excursio-visita-cervesses-san-miguel.html
CLASS:PUBLIC
END:VEVENT
END:VCALENDAR
