BEGIN:VCALENDAR
VERSION:2.0
CALSCALE:GREGORIAN
PRODID:-//Diputació de Barcelona//DibaCMS//EN
BEGIN:VEVENT
UID:1128
DTSTAMP:20260420T143926
DTSTART:20091122T130000
DTEND:20091122T000000
SUMMARY:Missa Cofradia d'Oliaires
LOCATION:
METHOD:PUBLISH
X-WR-CALNAME:ullastrell@ullastrell.cat
X-WR-TIMEZONE:Europe/Madrid
DESCRIPTION:Missa de la Cofradia d'Oliaires de CatalunyaEl gremi dels oliaires de Catalunya, celebra la seva missa anual amb tots els seus confrares i  en aquesta celebració interpretaran els cants la Coral d'UllastrellLloc: Església de Santa Maria del Mar de BarcelonaOrganitzador: Coral d'Ullastrell
URI:https://www.ullastrell.cat/actualitat/agenda/missa-cofradia-doliaires.html
CLASS:PUBLIC
END:VEVENT
END:VCALENDAR
