BEGIN:VCALENDAR
VERSION:2.0
CALSCALE:GREGORIAN
PRODID:-//Diputació de Barcelona//DibaCMS//EN
BEGIN:VEVENT
UID:1129
DTSTAMP:20260419T190552
DTSTART:20091209T000000
DTEND:20091209T000000
SUMMARY:Excursió per Nadal
LOCATION:
METHOD:PUBLISH
X-WR-CALNAME:ullastrell@ullastrell.cat
X-WR-TIMEZONE:Europe/Madrid
DESCRIPTION:Per celebrar el Nadal, la Colla de la Gent Gran han preparat una excursió sorpresa.
 
 Lloc: SorpresaOrganitzador: Colla de la Gent Gran
URI:https://www.ullastrell.cat/actualitat/agenda/excursio-per-nadal.html
CLASS:PUBLIC
END:VEVENT
END:VCALENDAR
