BEGIN:VCALENDAR
VERSION:2.0
CALSCALE:GREGORIAN
PRODID:-//Diputació de Barcelona//DibaCMS//EN
BEGIN:VEVENT
UID:1132
DTSTAMP:20260419T173817
DTSTART:20091213T100000
DTEND:20091213T210000
SUMMARY:Fira de Sant Llúcia
LOCATION:
METHOD:PUBLISH
X-WR-CALNAME:ullastrell@ullastrell.cat
X-WR-TIMEZONE:Europe/Madrid
DESCRIPTION:Paradetes i activitats.
 
 Lloc: C/SerraOrganitzador: Ullastrell També Decideix - Vida i Pau - Pares i Mares de 6è
URI:https://www.ullastrell.cat/actualitat/agenda/fira-de-sant-llucia.html
CLASS:PUBLIC
END:VEVENT
END:VCALENDAR
