BEGIN:VCALENDAR
VERSION:2.0
CALSCALE:GREGORIAN
PRODID:-//Diputació de Barcelona//DibaCMS//EN
BEGIN:VEVENT
UID:1135
DTSTAMP:20260419T152941
DTSTART:20091223T100000
DTEND:20091223T140000
SUMMARY:Inici Casal d'Hivern
LOCATION:
METHOD:PUBLISH
X-WR-CALNAME:ullastrell@ullastrell.cat
X-WR-TIMEZONE:Europe/Madrid
DESCRIPTION:Casal d'hivernInici del Casal d'Hivern fins el dia 5 de gener de 2010, amb activitats pels nens i nenes, nois i noies.
 
 Lloc: Local de l'EsplaiOrganitzador: Esplai 100Bambes
URI:https://www.ullastrell.cat/actualitat/agenda/inici-casal-dhivern.html
CLASS:PUBLIC
END:VEVENT
END:VCALENDAR
