BEGIN:VCALENDAR
VERSION:2.0
CALSCALE:GREGORIAN
PRODID:-//Diputació de Barcelona//DibaCMS//EN
BEGIN:VEVENT
UID:1136
DTSTAMP:20260419T164414
DTSTART:20091224T000000
DTEND:20091224T000000
SUMMARY:Missa del gall - 24/12/2009
LOCATION:
METHOD:PUBLISH
X-WR-CALNAME:ullastrell@ullastrell.cat
X-WR-TIMEZONE:Europe/Madrid
DESCRIPTION:Missa del GallCelebració de la Missa del Gall, amb cants i participació dels nens de la catequesi, a continuació a la sala de reunions parroquial ressopó per a tothom.
 Lloc: Esglèsia de Santa Maria d'UllastrellOrganitzador: Parròquia Santa Maria
URI:https://www.ullastrell.cat/actualitat/agenda/missa-del-gall-24122009.html
CLASS:PUBLIC
END:VEVENT
END:VCALENDAR
