BEGIN:VCALENDAR
VERSION:2.0
CALSCALE:GREGORIAN
PRODID:-//Diputació de Barcelona//DibaCMS//EN
BEGIN:VEVENT
UID:1137
DTSTAMP:20260419T152056
DTSTART:20100105T180000
DTEND:20100105T000000
SUMMARY:Cavalcada de Reis - 05/01/2010
LOCATION:
METHOD:PUBLISH
X-WR-CALNAME:ullastrell@ullastrell.cat
X-WR-TIMEZONE:Europe/Madrid
DESCRIPTION:La cavalcada de Reis arriba aquest any a les 6 de la tarda a l'Era de Cal Taiet, fent el recorregut següent:
Carretera d'Olesa, Avinguda Verge de Montserrat, Carrer Serra, giraran a La Mola i fins a la Pista Poliesportiva.
Un cop a la Pista els nens podran donar la seva carta als Reis d'Orient.Lloc: Era de Cal TaietOrganitzador: Geganters d'Ullastrell
URI:https://www.ullastrell.cat/actualitat/agenda/cavalcada-de-reis-05012010.html
CLASS:PUBLIC
END:VEVENT
END:VCALENDAR
