BEGIN:VCALENDAR
VERSION:2.0
CALSCALE:GREGORIAN
PRODID:-//Diputació de Barcelona//DibaCMS//EN
BEGIN:VEVENT
UID:1138
DTSTAMP:20260419T181636
DTSTART:20100101T090000
DTEND:20100103T200000
SUMMARY:Exposició: “La violència que acceptem”
LOCATION:
METHOD:PUBLISH
X-WR-CALNAME:ullastrell@ullastrell.cat
X-WR-TIMEZONE:Europe/Madrid
DESCRIPTION:ViolènciaLloc: Sala Exposicions CasalOrganitzador: Patronat
URI:https://www.ullastrell.cat/actualitat/agenda/exposicio-la-violencia-que-acceptem.html
CLASS:PUBLIC
END:VEVENT
END:VCALENDAR
