BEGIN:VCALENDAR
VERSION:2.0
CALSCALE:GREGORIAN
PRODID:-//Diputació de Barcelona//DibaCMS//EN
BEGIN:VEVENT
UID:1139
DTSTAMP:20260419T152353
DTSTART:20100103T190000
DTEND:20100103T000000
SUMMARY:Cinema: "Si la cosa funciona"
LOCATION:
METHOD:PUBLISH
X-WR-CALNAME:ullastrell@ullastrell.cat
X-WR-TIMEZONE:Europe/Madrid
DESCRIPTION:Cinema / Any: 2009 / Duració: 92 min. / Director: Woody Allen. Comèdia / SINOPSI: La pel·lícula se centra en un excèntric i madur home de Nova York (Larry David, co-guionista de "Seinfeld") que abandona la seva acomodada vida per a dur una existència més bohèmia. D'aquesta manera coneixerà a una bella jove del sud (Evan Rachel Wood), desembocant tot això en una sèrie de embolics familiars i sentimentals. (FILMAFFINITY).Lloc: Sala Exposicions CasalOrganitzador: Patronat- L’Ull
URI:https://www.ullastrell.cat/actualitat/agenda/cinema-si-la-cosa-funciona.html
CLASS:PUBLIC
END:VEVENT
END:VCALENDAR
