BEGIN:VCALENDAR
VERSION:2.0
CALSCALE:GREGORIAN
PRODID:-//Diputació de Barcelona//DibaCMS//EN
BEGIN:VEVENT
UID:1140
DTSTAMP:20260420T163443
DTSTART:20100131T170000
DTEND:20100131T000000
SUMMARY:Assemblea de Socis - 31/01/2010
LOCATION:
METHOD:PUBLISH
X-WR-CALNAME:ullastrell@ullastrell.cat
X-WR-TIMEZONE:Europe/Madrid
DESCRIPTION:Assemblea anual de socisLa Colla de la Gent Gran celebran la seva assemblea anual de socis.
 Lloc: Altell del casalOrganitzador: Colla de la Gent Gran
URI:https://www.ullastrell.cat/actualitat/agenda/assemblea-de-socis-31012010.html
CLASS:PUBLIC
END:VEVENT
END:VCALENDAR
