BEGIN:VCALENDAR
VERSION:2.0
CALSCALE:GREGORIAN
PRODID:-//Diputació de Barcelona//DibaCMS//EN
BEGIN:VEVENT
UID:1141
DTSTAMP:20260419T150258
DTSTART:20100124T090000
DTEND:20100124T000000
SUMMARY:Excursioneta familiar pels volts d'Ullastrell
LOCATION:
METHOD:PUBLISH
X-WR-CALNAME:ullastrell@ullastrell.cat
X-WR-TIMEZONE:Europe/Madrid
DESCRIPTION:El Grup de Muntanya organitza una excursió pels vols del poble. A decisió popular.
 
 Lloc: Davant de l'AjuntamentOrganitzador: Grup de Muntanya
URI:https://www.ullastrell.cat/actualitat/agenda/excursioneta-familiar-pels-volts-dullastrell.html
CLASS:PUBLIC
END:VEVENT
END:VCALENDAR
