BEGIN:VCALENDAR
VERSION:2.0
CALSCALE:GREGORIAN
PRODID:-//Diputació de Barcelona//DibaCMS//EN
BEGIN:VEVENT
UID:1144
DTSTAMP:20260420T164437
DTSTART:20100306T213000
DTEND:20100306T000000
SUMMARY:Sopar i jocs per a dones
LOCATION:
METHOD:PUBLISH
X-WR-CALNAME:ullastrell@ullastrell.cat
X-WR-TIMEZONE:Europe/Madrid
DESCRIPTION:Sopar i jocs per a donesPer a celebrar el dia de la dona, s'organitza un sopar i uns jocs dedicats exclusivament a les dones.
 Lloc: Altell del casalOrganitzador: Oncolliga
URI:https://www.ullastrell.cat/actualitat/agenda/sopar-i-jocs-per-a-dones.html
CLASS:PUBLIC
END:VEVENT
END:VCALENDAR
