BEGIN:VCALENDAR
VERSION:2.0
CALSCALE:GREGORIAN
PRODID:-//Diputació de Barcelona//DibaCMS//EN
BEGIN:VEVENT
UID:1158
DTSTAMP:20260420T103351
DTSTART:20090425T100000
DTEND:20090425T000000
SUMMARY:Futbol pre-Benjamins: Serralavella - Rubí
LOCATION:
METHOD:PUBLISH
X-WR-CALNAME:ullastrell@ullastrell.cat
X-WR-TIMEZONE:Europe/Madrid
DESCRIPTION:Partit de futbol  escolarPartit de futbol ,campionat escolarLloc: Camp municipalOrganitzador: AGU
URI:https://www.ullastrell.cat/actualitat/agenda/futbol-pre-benjamins-serralavella-rubi.html
CLASS:PUBLIC
END:VEVENT
END:VCALENDAR
