BEGIN:VCALENDAR
VERSION:2.0
CALSCALE:GREGORIAN
PRODID:-//Diputació de Barcelona//DibaCMS//EN
BEGIN:VEVENT
UID:1159
DTSTAMP:20260420T132924
DTSTART:20090425T110000
DTEND:20090425T000000
SUMMARY:Futbol cadets: Serralavella - Joaquima de Vedruna
LOCATION:
METHOD:PUBLISH
X-WR-CALNAME:ullastrell@ullastrell.cat
X-WR-TIMEZONE:Europe/Madrid
DESCRIPTION:Partit de futbol escolarPartit de futbol campionat escolarLloc: Camp municipalOrganitzador: AGU
URI:https://www.ullastrell.cat/actualitat/agenda/futbol-cadets-serralavella-joaquima-de-vedruna.html
CLASS:PUBLIC
END:VEVENT
END:VCALENDAR
