BEGIN:VCALENDAR
VERSION:2.0
CALSCALE:GREGORIAN
PRODID:-//Diputació de Barcelona//DibaCMS//EN
BEGIN:VEVENT
UID:1162
DTSTAMP:20260420T093016
DTSTART:20090615T000000
DTEND:20090724T000000
SUMMARY:Campionat de Futbol Sala - 15/06/2009
LOCATION:
METHOD:PUBLISH
X-WR-CALNAME:ullastrell@ullastrell.cat
X-WR-TIMEZONE:Europe/Madrid
DESCRIPTION:Campionat popular de futbol salaDes de fa molt anys el campionat popular de futbol sala que començarà el proper 15 de juny fins el 24 de juliol, anima els vespres a la pista poliesportiva.Lloc: Pista poliesportivaOrganitzador: Ajuntament
URI:https://www.ullastrell.cat/actualitat/agenda/campionat-de-futbol-sala-15062009.html
CLASS:PUBLIC
END:VEVENT
END:VCALENDAR
