BEGIN:VCALENDAR
VERSION:2.0
CALSCALE:GREGORIAN
PRODID:-//Diputació de Barcelona//DibaCMS//EN
BEGIN:VEVENT
UID:1165
DTSTAMP:20260419T171240
DTSTART:20091010T110000
DTEND:20091010T000000
SUMMARY:Futbol cadets: Nàstic Ullastrell "C" - Martorelles Club "A"
LOCATION:
METHOD:PUBLISH
X-WR-CALNAME:ullastrell@ullastrell.cat
X-WR-TIMEZONE:Europe/Madrid
DESCRIPTION:Futbol cadets: Nàstic Ullastrell "C" - Martorelles Club "A"
 
Lloc: Camp MunicipalOrganitzador: AGU
URI:https://www.ullastrell.cat/actualitat/agenda/futbol-cadets-nastic-ullastrell-c-martorelles-club-a.html
CLASS:PUBLIC
END:VEVENT
END:VCALENDAR
