BEGIN:VCALENDAR
VERSION:2.0
CALSCALE:GREGORIAN
PRODID:-//Diputació de Barcelona//DibaCMS//EN
BEGIN:VEVENT
UID:1166
DTSTAMP:20260419T171224
DTSTART:20091017T160000
DTEND:20091017T000000
SUMMARY:Futbol Veterans: C.F. Ullastrell- Monistrol
LOCATION:
METHOD:PUBLISH
X-WR-CALNAME:ullastrell@ullastrell.cat
X-WR-TIMEZONE:Europe/Madrid
DESCRIPTION:Lliga de futbol veterans Grup B  2009-2010Partit de futbol Veterans  entre C.F. Ullastrell i C.F. MonistrolLloc: Camp municipalOrganitzador: C.F. Veterans
URI:https://www.ullastrell.cat/actualitat/agenda/futbol-veterans-cf-ullastrell-monistrol.html
CLASS:PUBLIC
END:VEVENT
END:VCALENDAR
