BEGIN:VCALENDAR
VERSION:2.0
CALSCALE:GREGORIAN
PRODID:-//Diputació de Barcelona//DibaCMS//EN
BEGIN:VEVENT
UID:1167
DTSTAMP:20260419T171402
DTSTART:20091024T110000
DTEND:20091024T000000
SUMMARY:Futbol sala: Nàstic Ullastrell "C"- Alpe "A"
LOCATION:
METHOD:PUBLISH
X-WR-CALNAME:ullastrell@ullastrell.cat
X-WR-TIMEZONE:Europe/Madrid
DESCRIPTION:Campionat de lliga Segona divisió cadetPartit de futbol sala del campionat de lliga 2009/2010 de la segona divisió cadet.Lloc: pista poliesportivaOrganitzador: AGU
URI:https://www.ullastrell.cat/actualitat/agenda/futbol-sala-nastic-ullastrell-c-alpe-a.html
CLASS:PUBLIC
END:VEVENT
END:VCALENDAR
