BEGIN:VCALENDAR
VERSION:2.0
CALSCALE:GREGORIAN
PRODID:-//Diputació de Barcelona//DibaCMS//EN
BEGIN:VEVENT
UID:1168
DTSTAMP:20260420T161952
DTSTART:20091107T160000
DTEND:20091107T000000
SUMMARY:Futbol Veterans - 07/11/2009
LOCATION:
METHOD:PUBLISH
X-WR-CALNAME:ullastrell@ullastrell.cat
X-WR-TIMEZONE:Europe/Madrid
DESCRIPTION:Partit de campionat de futbol veteransEl F.C. Ullastrell  Veterans, s'enfrentarà al Gironella, en un partit de la Lliga de Futbol veterans Grup B. 2009-2010.Lloc: GironellaOrganitzador: C.F. Veterans
URI:https://www.ullastrell.cat/actualitat/agenda/futbol-veterans-07112009.html
CLASS:PUBLIC
END:VEVENT
END:VCALENDAR
