BEGIN:VCALENDAR
VERSION:2.0
CALSCALE:GREGORIAN
PRODID:-//Diputació de Barcelona//DibaCMS//EN
BEGIN:VEVENT
UID:1169
DTSTAMP:20260419T153145
DTSTART:20091114T110000
DTEND:20091114T000000
SUMMARY:Futbol sala: Nàstic Ullastrell "C"- Palau Solità i Plegamans
LOCATION:
METHOD:PUBLISH
X-WR-CALNAME:ullastrell@ullastrell.cat
X-WR-TIMEZONE:Europe/Madrid
DESCRIPTION:Futbol Sala del Campionat de Segona Divisió CadetsPartit de Futbol Sala dins del Campionat de LLiga 2009-2010, Segona Divisió Cadets.Lloc: pista poliesportivaOrganitzador: AGU
URI:https://www.ullastrell.cat/actualitat/agenda/futbol-sala-nastic-ullastrell-c-palau-solita-i-plegamans.html
CLASS:PUBLIC
END:VEVENT
END:VCALENDAR
