BEGIN:VCALENDAR
VERSION:2.0
CALSCALE:GREGORIAN
PRODID:-//Diputació de Barcelona//DibaCMS//EN
BEGIN:VEVENT
UID:1172
DTSTAMP:20260419T142258
DTSTART:20091128T110000
DTEND:20091128T000000
SUMMARY:Futbol sala: Nàstic Ullastrell "C"- C.N. Caldes F.S. "A"
LOCATION:
METHOD:PUBLISH
X-WR-CALNAME:ullastrell@ullastrell.cat
X-WR-TIMEZONE:Europe/Madrid
DESCRIPTION:Partit de Futbol SalaPartit del Campionat de Futbol Sala Segona Divisió Cadet 2009-2010Lloc: pista poliesportivaOrganitzador: AGU
URI:https://www.ullastrell.cat/actualitat/agenda/futbol-sala-nastic-ullastrell-c-cn-caldes-fs-a.html
CLASS:PUBLIC
END:VEVENT
END:VCALENDAR
