BEGIN:VCALENDAR
VERSION:2.0
CALSCALE:GREGORIAN
PRODID:-//Diputació de Barcelona//DibaCMS//EN
BEGIN:VEVENT
UID:1174
DTSTAMP:20260419T154311
DTSTART:20091128T160000
DTEND:20091128T000000
SUMMARY:Futbol Veterans: C.F. Ullastrell- Pradenc
LOCATION:
METHOD:PUBLISH
X-WR-CALNAME:ullastrell@ullastrell.cat
X-WR-TIMEZONE:Europe/Madrid
DESCRIPTION:Partit de futbol lliga veteransPartit de futbol de la Lliga de veterans Grup B. 2009-2010.Lloc: Camp municipalOrganitzador: C.F. Veterans
URI:https://www.ullastrell.cat/actualitat/agenda/futbol-veterans-cf-ullastrell-pradenc.html
CLASS:PUBLIC
END:VEVENT
END:VCALENDAR
