BEGIN:VCALENDAR
VERSION:2.0
CALSCALE:GREGORIAN
PRODID:-//Diputació de Barcelona//DibaCMS//EN
BEGIN:VEVENT
UID:1176
DTSTAMP:20260420T174839
DTSTART:20091107T100000
DTEND:20091107T000000
SUMMARY:Futbol pre-benjamins: Serralavella - Cultura Pràctica
LOCATION:
METHOD:PUBLISH
X-WR-CALNAME:ullastrell@ullastrell.cat
X-WR-TIMEZONE:Europe/Madrid
DESCRIPTION:Futbol 7 prebenjamíPartit de Futbol 7, dins els jocs esportius escolars 2009-2010.
 Lloc: Camp municipalOrganitzador: AGU
URI:https://www.ullastrell.cat/actualitat/agenda/futbol-pre-benjamins-serralavella-cultura-practica.html
CLASS:PUBLIC
END:VEVENT
END:VCALENDAR
