BEGIN:VCALENDAR
VERSION:2.0
CALSCALE:GREGORIAN
PRODID:-//Diputació de Barcelona//DibaCMS//EN
BEGIN:VEVENT
UID:1177
DTSTAMP:20260419T143509
DTSTART:20091128T100000
DTEND:20091128T000000
SUMMARY:Futbol pre-benjamins: Ceip Serralavella - Col. Sagrat Cor
LOCATION:
METHOD:PUBLISH
X-WR-CALNAME:ullastrell@ullastrell.cat
X-WR-TIMEZONE:Europe/Madrid
DESCRIPTION:Partit de futbol 7Partit de futbol 7 jocs esportius escolars 2009-2010, Prebenjamins.Lloc: Camp municipalOrganitzador: AGU
URI:https://www.ullastrell.cat/actualitat/agenda/futbol-pre-benjamins-ceip-serralavella-col-sagrat-cor.html
CLASS:PUBLIC
END:VEVENT
END:VCALENDAR
