BEGIN:VCALENDAR
VERSION:2.0
CALSCALE:GREGORIAN
PRODID:-//Diputació de Barcelona//DibaCMS//EN
BEGIN:VEVENT
UID:1179
DTSTAMP:20260420T135127
DTSTART:20091128T110000
DTEND:20091128T000000
SUMMARY:Futbol benjamí: Serralavella - Escola El Cim
LOCATION:
METHOD:PUBLISH
X-WR-CALNAME:ullastrell@ullastrell.cat
X-WR-TIMEZONE:Europe/Madrid
DESCRIPTION:Partit de futbol 7Partit de futbol 7 grup: Benjamí, dels jocs esportius escolars 2009-2010.
 Lloc: Camp municipalOrganitzador: AGU
URI:https://www.ullastrell.cat/actualitat/agenda/futbol-benjami-serralavella-escola-el-cim.html
CLASS:PUBLIC
END:VEVENT
END:VCALENDAR
