BEGIN:VCALENDAR
VERSION:2.0
CALSCALE:GREGORIAN
PRODID:-//Diputació de Barcelona//DibaCMS//EN
BEGIN:VEVENT
UID:1185
DTSTAMP:20260419T145622
DTSTART:20091212T160000
DTEND:20091212T000000
SUMMARY:Futbol Veterans: C.F. Ullastrell- Santpedor
LOCATION:
METHOD:PUBLISH
X-WR-CALNAME:ullastrell@ullastrell.cat
X-WR-TIMEZONE:Europe/Madrid
DESCRIPTION:Futbol VeteransPartit de futbol lliga de veterans Grup B 2009-2010.Lloc: Camp municipalOrganitzador: Veterans F.C.
URI:https://www.ullastrell.cat/actualitat/agenda/futbol-veterans-cf-ullastrell-santpedor.html
CLASS:PUBLIC
END:VEVENT
END:VCALENDAR
