BEGIN:VCALENDAR
VERSION:2.0
CALSCALE:GREGORIAN
PRODID:-//Diputació de Barcelona//DibaCMS//EN
BEGIN:VEVENT
UID:1187
DTSTAMP:20260420T200432
DTSTART:20091219T110000
DTEND:20091219T000000
SUMMARY:Futbol sala: Nàstic Ullastrell - Escola Pia B
LOCATION:
METHOD:PUBLISH
X-WR-CALNAME:ullastrell@ullastrell.cat
X-WR-TIMEZONE:Europe/Madrid
DESCRIPTION:Partit de futbol sala Partit de futbol sala campionat escolar cadets.Lloc: Pista PoliesportivaOrganitzador: Ajuntament
URI:https://www.ullastrell.cat/actualitat/agenda/futbol-sala-nastic-ullastrell-escola-pia-b.html
CLASS:PUBLIC
END:VEVENT
END:VCALENDAR
