BEGIN:VCALENDAR
VERSION:2.0
CALSCALE:GREGORIAN
PRODID:-//Diputació de Barcelona//DibaCMS//EN
BEGIN:VEVENT
UID:1188
DTSTAMP:20260419T153244
DTSTART:20091219T110000
DTEND:20091219T000000
SUMMARY:Futbol benjamí: Serralavella - Col. Tècnos
LOCATION:
METHOD:PUBLISH
X-WR-CALNAME:ullastrell@ullastrell.cat
X-WR-TIMEZONE:Europe/Madrid
DESCRIPTION:Partit de futbol benjamíPartit de futbol benjamí campionat escolar 2009-2010.
 
 Lloc: Camp municipalOrganitzador: AGU
URI:https://www.ullastrell.cat/actualitat/agenda/futbol-benjami-serralavella-col-tecnos.html
CLASS:PUBLIC
END:VEVENT
END:VCALENDAR
