BEGIN:VCALENDAR
VERSION:2.0
CALSCALE:GREGORIAN
PRODID:-//Diputació de Barcelona//DibaCMS//EN
BEGIN:VEVENT
UID:1192
DTSTAMP:20260419T170047
DTSTART:20100116T110000
DTEND:20100116T000000
SUMMARY:Futbol sala cadets: Nàstic Ullastrell - Ripollet FS
LOCATION:
METHOD:PUBLISH
X-WR-CALNAME:ullastrell@ullastrell.cat
X-WR-TIMEZONE:Europe/Madrid
DESCRIPTION:Partit de futbol sala cadetsPartit de futbol sala cadets, segona divisió, campionat de lliga 2009-2010.
 
 Lloc: Pista poliesportivaOrganitzador: AGU
URI:https://www.ullastrell.cat/actualitat/agenda/futbol-sala-cadets-nastic-ullastrell-ripollet-fs.html
CLASS:PUBLIC
END:VEVENT
END:VCALENDAR
