BEGIN:VCALENDAR
VERSION:2.0
CALSCALE:GREGORIAN
PRODID:-//Diputació de Barcelona//DibaCMS//EN
BEGIN:VEVENT
UID:1193
DTSTAMP:20260420T144122
DTSTART:20100116T160000
DTEND:20100116T000000
SUMMARY:Futbol Veterans: Cal Rosal - C.F. Ullastrell
LOCATION:
METHOD:PUBLISH
X-WR-CALNAME:ullastrell@ullastrell.cat
X-WR-TIMEZONE:Europe/Madrid
DESCRIPTION:Partit de futbol veteransPartit de futbol lliga veterans, grup B, 2009-2010.
 
 Lloc: Colonia RosalOrganitzador: Veterans F.C.
URI:https://www.ullastrell.cat/actualitat/agenda/futbol-veterans-cal-rosal-cf-ullastrell.html
CLASS:PUBLIC
END:VEVENT
END:VCALENDAR
