BEGIN:VCALENDAR
VERSION:2.0
CALSCALE:GREGORIAN
PRODID:-//Diputació de Barcelona//DibaCMS//EN
BEGIN:VEVENT
UID:1194
DTSTAMP:20260419T145659
DTSTART:20100123T100000
DTEND:20100123T000000
SUMMARY:Futbol pre-benjamí: Ceip Serralavella - Font de l'Alba
LOCATION:
METHOD:PUBLISH
X-WR-CALNAME:ullastrell@ullastrell.cat
X-WR-TIMEZONE:Europe/Madrid
DESCRIPTION:Partit de futbol pre-benjamí.Partit del Campionat escolar 2009-2010.
 
 Lloc:  Camp municipalOrganitzador: AGU
URI:https://www.ullastrell.cat/actualitat/agenda/futbol-pre-benjami-ceip-serralavella-font-de-lalba.html
CLASS:PUBLIC
END:VEVENT
END:VCALENDAR
