BEGIN:VCALENDAR
VERSION:2.0
CALSCALE:GREGORIAN
PRODID:-//Diputació de Barcelona//DibaCMS//EN
BEGIN:VEVENT
UID:1198
DTSTAMP:20260420T143820
DTSTART:20100130T160000
DTEND:20100130T000000
SUMMARY:Futbol veterans: Sallent - C.F. Ullastrell
LOCATION:
METHOD:PUBLISH
X-WR-CALNAME:ullastrell@ullastrell.cat
X-WR-TIMEZONE:Europe/Madrid
DESCRIPTION:Partit de futbol veteransPartit de la lliga de futbol veterans, Grup B  2009-2010.
 Lloc: SallentOrganitzador: Veterans F.C.
URI:https://www.ullastrell.cat/actualitat/agenda/futbol-veterans-sallent-cf-ullastrell.html
CLASS:PUBLIC
END:VEVENT
END:VCALENDAR
