BEGIN:VCALENDAR
VERSION:2.0
CALSCALE:GREGORIAN
PRODID:-//Diputació de Barcelona//DibaCMS//EN
BEGIN:VEVENT
UID:1200
DTSTAMP:20260419T160128
DTSTART:20100206T110000
DTEND:20100206T000000
SUMMARY:Futbol sala cadets: Nastic Ullastrell - Ciutat Granollers
LOCATION:
METHOD:PUBLISH
X-WR-CALNAME:ullastrell@ullastrell.cat
X-WR-TIMEZONE:Europe/Madrid
DESCRIPTION:Partit de futbol sala cadetsPartit de futbol sala, de la segona divisió cadets campionat de lliga 2009-2010.
 Lloc: Pista poliesportivaOrganitzador: AGU
URI:https://www.ullastrell.cat/actualitat/agenda/futbol-sala-cadets-nastic-ullastrell-ciutat-granollers.html
CLASS:PUBLIC
END:VEVENT
END:VCALENDAR
