BEGIN:VCALENDAR
VERSION:2.0
CALSCALE:GREGORIAN
PRODID:-//Diputació de Barcelona//DibaCMS//EN
BEGIN:VEVENT
UID:1201
DTSTAMP:20260419T160205
DTSTART:20100206T120000
DTEND:20100206T000000
SUMMARY:Futbol alevins: Serralavella - Escola Pia - 06/02/2010
LOCATION:
METHOD:PUBLISH
X-WR-CALNAME:ullastrell@ullastrell.cat
X-WR-TIMEZONE:Europe/Madrid
DESCRIPTION:Futbol alevinsPartit de futbol alevins, jocs esportius escolars 2009-2010.
 Lloc: Camp municipalOrganitzador: AGU
URI:https://www.ullastrell.cat/actualitat/agenda/futbol-alevins-serralavella-escola-pia-06022010.html
CLASS:PUBLIC
END:VEVENT
END:VCALENDAR
