BEGIN:VCALENDAR
VERSION:2.0
CALSCALE:GREGORIAN
PRODID:-//Diputació de Barcelona//DibaCMS//EN
BEGIN:VEVENT
UID:1202
DTSTAMP:20260419T192305
DTSTART:20100206T160000
DTEND:20100206T000000
SUMMARY:Futbol veterans: C.F. Ullastrell - Marroquies
LOCATION:
METHOD:PUBLISH
X-WR-CALNAME:ullastrell@ullastrell.cat
X-WR-TIMEZONE:Europe/Madrid
DESCRIPTION:Partit de futbol veteransPartit de futbol lliga de veterans. Grup B. 2009-2010.
 Lloc: Camp municipalOrganitzador: C.F. Veterans
URI:https://www.ullastrell.cat/actualitat/agenda/futbol-veterans-cf-ullastrell-marroquies.html
CLASS:PUBLIC
END:VEVENT
END:VCALENDAR
