BEGIN:VCALENDAR
VERSION:2.0
CALSCALE:GREGORIAN
PRODID:-//Diputació de Barcelona//DibaCMS//EN
BEGIN:VEVENT
UID:1203
DTSTAMP:20260419T192410
DTSTART:20100207T093000
DTEND:20100207T000000
SUMMARY:Campionat d'escacs - 07/02/2010
LOCATION:
METHOD:PUBLISH
X-WR-CALNAME:ullastrell@ullastrell.cat
X-WR-TIMEZONE:Europe/Madrid
DESCRIPTION:Campionat d'escacs de CatalunyaCampionat d'escacs de Catalunya per equips 3ª Categoria Provincial 2010.
Tots els encontres comencen a les 9:30. Computaran per l'equip tots els punts aconseguits per els jugadors individualment.Lloc: Altell del casalOrganitzador: Club Escacs Ullastrell
URI:https://www.ullastrell.cat/actualitat/agenda/campionat-descacs-07022010.html
CLASS:PUBLIC
END:VEVENT
END:VCALENDAR
