BEGIN:VCALENDAR
VERSION:2.0
CALSCALE:GREGORIAN
PRODID:-//Diputació de Barcelona//DibaCMS//EN
BEGIN:VEVENT
UID:1204
DTSTAMP:20260419T191923
DTSTART:20100214T093000
DTEND:20100214T000000
SUMMARY:Campionat d'escacs: Rubinenca "B" - Ullastrell
LOCATION:
METHOD:PUBLISH
X-WR-CALNAME:ullastrell@ullastrell.cat
X-WR-TIMEZONE:Europe/Madrid
DESCRIPTION:Campionat d'escacs 2010Campionat de Catalunya per equips 3ª categoria provincial 2010.
 Lloc: RubíOrganitzador: Club Escacs Ullastrell
URI:https://www.ullastrell.cat/actualitat/agenda/campionat-descacs-rubinenca-b-ullastrell.html
CLASS:PUBLIC
END:VEVENT
END:VCALENDAR
