BEGIN:VCALENDAR
VERSION:2.0
CALSCALE:GREGORIAN
PRODID:-//Diputació de Barcelona//DibaCMS//EN
BEGIN:VEVENT
UID:1206
DTSTAMP:20260419T205510
DTSTART:20100221T093000
DTEND:20100221T000000
SUMMARY:Campionat d'Escacs: Ullastrell - Sant Quirze
LOCATION:
METHOD:PUBLISH
X-WR-CALNAME:ullastrell@ullastrell.cat
X-WR-TIMEZONE:Europe/Madrid
DESCRIPTION:Campionat d'escacs de CatalunyaCampionat d'escacs de Catalunya per equips 3ª categoria provincial 2010.
 Lloc: Altell del casalOrganitzador: Club Escacs Ullastrell
URI:https://www.ullastrell.cat/actualitat/agenda/campionat-descacs-ullastrell-sant-quirze.html
CLASS:PUBLIC
END:VEVENT
END:VCALENDAR
