BEGIN:VCALENDAR
VERSION:2.0
CALSCALE:GREGORIAN
PRODID:-//Diputació de Barcelona//DibaCMS//EN
BEGIN:VEVENT
UID:1209
DTSTAMP:20260419T155939
DTSTART:20100227T120000
DTEND:20100227T000000
SUMMARY:Futbol alevins: Serralavella - Escola Pia - 27/02/2010
LOCATION:
METHOD:PUBLISH
X-WR-CALNAME:ullastrell@ullastrell.cat
X-WR-TIMEZONE:Europe/Madrid
DESCRIPTION:Partit de futbol alevinsPartit de futbol alevins, jocs esportius escolas 2009-2010.
 Lloc: Camp municipalOrganitzador: AGU
URI:https://www.ullastrell.cat/actualitat/agenda/futbol-alevins-serralavella-escola-pia-27022010.html
CLASS:PUBLIC
END:VEVENT
END:VCALENDAR
