BEGIN:VCALENDAR
VERSION:2.0
CALSCALE:GREGORIAN
PRODID:-//Diputació de Barcelona//DibaCMS//EN
BEGIN:VEVENT
UID:1210
DTSTAMP:20260419T153800
DTSTART:20100228T093000
DTEND:20100228T000000
SUMMARY:Campionat d'Escacs: Ullastrell - Badia
LOCATION:
METHOD:PUBLISH
X-WR-CALNAME:ullastrell@ullastrell.cat
X-WR-TIMEZONE:Europe/Madrid
DESCRIPTION:Campionat d'escacsCampionat de Catalunya  d'escacs per equips 3ª categoria provincial 2010.
 
 Lloc: Altell del casalOrganitzador: Club Escacs Ullastrell
URI:https://www.ullastrell.cat/actualitat/agenda/campionat-descacs-ullastrell-badia.html
CLASS:PUBLIC
END:VEVENT
END:VCALENDAR
