BEGIN:VCALENDAR
VERSION:2.0
CALSCALE:GREGORIAN
PRODID:-//Diputació de Barcelona//DibaCMS//EN
BEGIN:VEVENT
UID:1213
DTSTAMP:20260419T171327
DTSTART:20100313T100000
DTEND:20100313T000000
SUMMARY:Futbol pre-benjamins: Serralavella - Escola el Cim
LOCATION:
METHOD:PUBLISH
X-WR-CALNAME:ullastrell@ullastrell.cat
X-WR-TIMEZONE:Europe/Madrid
DESCRIPTION:Partit de futbol prebenjamíPartit de futbol prebenjamí, jocs esportius escolars 2009-2010.
 Lloc: Camp municipalOrganitzador: AGU
URI:https://www.ullastrell.cat/actualitat/agenda/futbol-pre-benjamins-serralavella-escola-el-cim.html
CLASS:PUBLIC
END:VEVENT
END:VCALENDAR
