BEGIN:VCALENDAR
VERSION:2.0
CALSCALE:GREGORIAN
PRODID:-//Diputació de Barcelona//DibaCMS//EN
BEGIN:VEVENT
UID:1214
DTSTAMP:20260419T144746
DTSTART:20100313T110000
DTEND:20100313T000000
SUMMARY:Futbol benjamí: Serralavella - Escola Pia - 13/03/2010
LOCATION:
METHOD:PUBLISH
X-WR-CALNAME:ullastrell@ullastrell.cat
X-WR-TIMEZONE:Europe/Madrid
DESCRIPTION:partit de futbol benjamíPartit de futbol categoria benjamí, Jocs esportius esolars 2009-2010.
 Lloc: Camp municipalOrganitzador: AGU
URI:https://www.ullastrell.cat/actualitat/agenda/futbol-benjami-serralavella-escola-pia-13032010.html
CLASS:PUBLIC
END:VEVENT
END:VCALENDAR
