BEGIN:VCALENDAR
VERSION:2.0
CALSCALE:GREGORIAN
PRODID:-//Diputació de Barcelona//DibaCMS//EN
BEGIN:VEVENT
UID:1219
DTSTAMP:20260420T075949
DTSTART:20090319T180000
DTEND:20090319T000000
SUMMARY:L'hora del conte - 19/03/2009
LOCATION:
METHOD:PUBLISH
X-WR-CALNAME:ullastrell@ullastrell.cat
X-WR-TIMEZONE:Europe/Madrid
DESCRIPTION:A càrrec de la Vella QuaresmaLloc: Biblioteca Josep MassaguéOrganitzador: Biblioteca Josep Massagué
URI:https://www.ullastrell.cat/actualitat/agenda/lhora-del-conte-19032009.html
CLASS:PUBLIC
END:VEVENT
END:VCALENDAR
