BEGIN:VCALENDAR
VERSION:2.0
CALSCALE:GREGORIAN
PRODID:-//Diputació de Barcelona//DibaCMS//EN
BEGIN:VEVENT
UID:1230
DTSTAMP:20260419T185050
DTSTART:20091011T190000
DTEND:20091011T000000
SUMMARY:Cinema: "Que les pasa a los hombres"
LOCATION:
METHOD:PUBLISH
X-WR-CALNAME:ullastrell@ullastrell.cat
X-WR-TIMEZONE:Europe/Madrid
DESCRIPTION:Any: 2009 / Duració: 129 min. / Director: Ken Kwapis Comedia romántica / SINOPSIS: Ambientada en Baltimore, narra diferentes historias cruzadas sobre el amor y el comportamiento humano; una mujer confundida por sus citas en una sociedad más obsesionada con la tecnología que con el contacto humano. Otra mujer atrapada en un matrimonio gastado. Un hombre que intenta conquistar a una mujer, amante de otro. Una joven obsesionada que intenta crear encuentros accidentales con el hombre de sus sueños...Lloc: Sala d'Actes del CasalOrganitzador: Patronat
URI:https://www.ullastrell.cat/actualitat/agenda/cinema-que-les-pasa-a-los-hombres.html
CLASS:PUBLIC
END:VEVENT
END:VCALENDAR
