BEGIN:VCALENDAR
VERSION:2.0
CALSCALE:GREGORIAN
PRODID:-//Diputació de Barcelona//DibaCMS//EN
BEGIN:VEVENT
UID:1231
DTSTAMP:20260419T153354
DTSTART:20091219T170000
DTEND:20091219T000000
SUMMARY:Concert de Nadal - 19/12/2009
LOCATION:
METHOD:PUBLISH
X-WR-CALNAME:ullastrell@ullastrell.cat
X-WR-TIMEZONE:Europe/Madrid
DESCRIPTION:Concert de Nadal de la Coral.
 
 Lloc: Residència d’Ullastrell Organitzador: Coral Ullastrell
URI:https://www.ullastrell.cat/actualitat/agenda/concert-de-nadal-19122009.html
CLASS:PUBLIC
END:VEVENT
END:VCALENDAR
