BEGIN:VCALENDAR
VERSION:2.0
CALSCALE:GREGORIAN
PRODID:-//Diputació de Barcelona//DibaCMS//EN
BEGIN:VEVENT
UID:1232
DTSTAMP:20260419T153707
DTSTART:20100213T173000
DTEND:20100213T000000
SUMMARY:Carnaval
LOCATION:
METHOD:PUBLISH
X-WR-CALNAME:ullastrell@ullastrell.cat
X-WR-TIMEZONE:Europe/Madrid
DESCRIPTION:Com cada any, carnaval per tothom!A 2/4 de 6 de la tarda concentració a la Plaça de les Escoles de totes les disfresses.
Seguidament, sortida de la cercavila pel centre del poble animada per l'Akira, dalt de l'esbojarrat 2CV de la disbauxa.
Ens portarà a la Pista Poliesportiva on ens esperarà l'Akbert Vinyes, amb un espectacle d'una entrada desconcertant, un joc de confiança disfressat de ball, un rock "súper" enrrotllat, un passeig frenètic per les danses de tota la vida.
 Lloc: Plaça de les escolesOrganitzador: Comissió de Festes
URI:https://www.ullastrell.cat/actualitat/agenda/carnaval.html
CLASS:PUBLIC
END:VEVENT
END:VCALENDAR
