BEGIN:VCALENDAR
VERSION:2.0
CALSCALE:GREGORIAN
PRODID:-//Diputació de Barcelona//DibaCMS//EN
BEGIN:VEVENT
UID:1233
DTSTAMP:20260420T103252
DTSTART:20090813T000000
DTEND:20090816T000000
SUMMARY:Festa Major - 13/08/2009
LOCATION:
METHOD:PUBLISH
X-WR-CALNAME:ullastrell@ullastrell.cat
X-WR-TIMEZONE:Europe/Madrid
DESCRIPTION:Del 13 al 16 d'Agost arriba l'esperada Festa Major al nostre poble.Com cada any per aquestes dates Ullastrell està de Festa Major, i per això hem de sortir tots al carrer a celebrar-ho.
 

Activitats: gimcana popular, cercavila de bicicletes i andròmines, paintball, partits de waterpolo infantil, partits de futbol (femení i masculí), inflables a la piscina, sardanes, batuka, ioga, trobada de plaques de cava, festa de l'escuma, sopars populars...


 Concursos: Tennis taula, tastavins, escacs, sudokus, parxís, tastabirres, butifarra, petanca...


Espectacles: Tomeu Penya, Fakir Kirman, l'humorista Ramón, Xaranga Lo Perkal, Doble Sentit i La Banda del Cava...


 Concerts i balls: Cada nit a la pista i al local de l'OJU...

i molt més!Lloc: UllastrellOrganitzador: 
URI:https://www.ullastrell.cat/actualitat/agenda/festa-major-13082009.html
CLASS:PUBLIC
END:VEVENT
END:VCALENDAR
